BEGIN:VCALENDAR
VERSION:2.0
PRODID:-//Michael Angstadt//biweekly 0.5.0//EN
BEGIN:VEVENT
UID:93341b6d-28cf-4997-bcf5-bc9a185b2229
DTSTAMP:20260423T185748Z
SUMMARY:Munich Re Life Forum
DESCRIPTION:Bitte beachten Sie\, dass eine direkte Buchung/Reservierung von 
 Online-Seminaren nicht möglich ist. Wenn Sie an einem bestimmten Seminar t
 eilnehmen möchten\, wenden Sie sich bitte an Ihren Kundenbetreuer oder den 
 zuständigen Underwriter.\nSobald Ihre Reservierung akzeptiert wurde\, erha
 lten Sie ein offizielles Anmeldeformular zur Einschreibung.\nDie Münchener 
 Rück übernimmt die Kosten für die Seminare vor Ort\, die Reise- und Überna
 chtungskosten müssen jedoch von den Teilnehmern selbst getragen werden.\nF
 ür alle anderen Fragen können Sie sich auch direkt an das Seminarteam wend
 en: lifeseminars@munichre.com
DTSTART:20261006T070000Z
DTEND:20261007T120000Z
LOCATION:In-house Seminar
END:VEVENT
END:VCALENDAR
